Workbook

Sheet START
B4: Key figures
B7: ASSA ABLOY key figures | E7: Sheet | G7: Value
B8: Financial definitions | E8: Definitions
B9: Quarterly figures | E9: Q Figures | G9: SEK M
B10: Quaterly balance sheet | E10: Q BR | G10: SEK M
B11: Quarterly Sales and EBIT brigde | E11: Q Bridge | G11: SEK M/ %
B12: Quarterly Product group reporting | E12: Q PGR | G12: SEK M
B13: Full year figures | E13: FY Figures | G13: SEK M
B14: Full year balance sheet | E14: FY BS | G14: SEK M
B15: Sales by country | E15: Sales by country | G15: SEK M
B16: Key summary | E16: Key summary | G16: SEK M/ %
B17: Sustainability figures | E17: SR
B18: Acquistions | E18: ACQ | G18: SEK M

Sheet Definitions
B4: Financial definitions
B7: Key figure | C7: Definition
B8: Organic growth | C8: Change in sales for comparable units after adjustments for acquisitions and exchange-rate effects.
B10: Operating margin (EBITDA) | C10: Operating income before depreciation and amortization as a percentage of sales.
B12: Operating margin (EBITA) | C12: Operating income before amortization of intangible assets recognized in business combinations, as a percentage of sales.
B14: Operating margin (EBIT) | C14: Operating income as a percentage of sales.
B16: Profit margin (EBT) | C16: Income before tax as a percentage of sales.
B18: Items affecting comparability | C18: Restructuring costs and significant non-recurring operating expenses such as revaluation of previously owned shares in associates and goodwill impairment.
B20: Operating cash flow | C20: Cash flow from operating activities excluding restructuring payments and tax paid on income minus net capital expenditure and repayment of lease liabilities.
B22: Cash conversion | C22: Operating cash flow in relation to income before tax excluding items affecting comparability.
B24: Net capital expenditure | C24: Investments in, less disposals of, intangible assets and property, plant and equipment.
B26: Depreciation and amortization | C26: Depreciation, amortization and impairment of intangible assets and property, plant and equipment and right-of-use assets.
B28: Capital employed | C28: Total assets less interest-bearing assets and non-interest-bearing liabilities including deferred tax liability.
... B48: Earnings per share before and after dilution and excluding items affecting comparability | C48: Net income attributable to parent company's shareholders excluding items affecting comparability, net of tax, dividend by weighted average number of outstanding shares. None of the Group's outstanding long-term incentive

Sheet Q Figures
A4: Quarterly figures (M SEK)
B6: 2015 | F6: 2016 | J6: 2017 | N6: 2018 | R6: 2019 | V6: 2020 | Z6: 2021 | AD6: 2022 | AH6: 2023 | AL6: 2024 | AP6: 2025 | AT6: 2026
B7: Q1 | C7: Q2 | D7: Q3 | E7: Q4 | F7: Q1 | G7: Q2 | H7: Q3 | I7: Q4 | J7: Q1 | K7: Q2 | L7: Q3 | M7: Q4 | N7: Q1 | O7: Q2 | P7: Q3 | Q7: Q4 | R7: Q1 | S7: Q2 | T7: Q3 | U7: Q4 | V7: Q1 | W7: Q2 | X7: Q3 | Y7: Q4 | Z7: Q1 | AA7: Q2 | AB7: Q3 | AC7: Q4 | AD7: Q1 | AE7: Q2 | AF7: Q3 | AG7: Q4 | AH7: Q1 | AI7: Q2 | AJ7: Q3 | AK7: Q4 | AL7: Q1 | AM7: Q2 | AN7: Q3 | AO7: Q4 | AP7: Q1 | AQ7: Q2 | AR7: Q3 | AS7: Q4 | AT7: Q1 | AU7: Q2 | AV7: Q3 | AW7: Q4
A8: Sales
A9: EMEIA | B9: 3944 | C9: 4068 | D9: 4100 | E9: 4411 | F9: 4004 | G9: 4234 | H9: 4042 | I9: 4557 | J9: 4404 | K9: 4529 | L9: 4278 | M9: 4869 | N9: 4775 | O9: 5069 | P9: 4872 | Q9: 5485 | R9: 5208 | S9: 5291 | T9: 5120 | U9: 5525 | V9: 5044 | W9: 3871 | X9: 4824 | Y9: 5242 | Z9: 5058 | AA9: 5235 | AB9: 5044 | AC9: 5186 | AD9: 5309.3292 | AE9: 5560.7325 | AF9: 5757.6179 | AG9: 6230.778 | AH9: 6229.203 | AI9: 6202 | AJ9: 6060.5085 | AK9: 6338.7333 | AL9: 6216.4565 | AM9: 6390.9639 | AN9: 6009.7344 | AO9: 6481 | AP9: 6464.3793 | AQ9: 6366.8577 | AR9: 6325 | AS9: 6666 | AT9: 6519 | AU9: 6681 | AV9: 6727
A10: Americas | B10: 3664 | C10: 3953 | D10: 4064 | E10: 3984 | F10: 3969 | G10: 4291 | H10: 4422 | I10: 4362 | J10: 4566 | K10: 4704 | L10: 4426 | M10: 4243 | N10: 4354 | O10: 5078 | P10: 5211 | Q10: 5173 | R10: 5312 | S10: 5861 | T10: 6099 | U10: 5900 | V10: 5271 | W10: 4396 | X10: 4779 | Y10: 4567 | Z10: 4604 | AA10: 4981 | AB10: 5400 | AC10: 5522 | AD10: 6240.6265 | AE10: 7035.8017 | AF10: 7639.9422 | AG10: 7427.4008 | AH10: 7861.2733 | AI10: 8549 | AJ10: 11090.502 | AK10: 10508.461 | AL10: 10532.477 | AM10: 11561.517 | AN10: 11213.731 | AO10: 11033 | AP10: 11170.89 | AQ10: 11165.153 | AR10: 10840 | AS10: 10313 | AT10: 10346 | AU10: 11471 | AV10: 11831
A11: APAC | B11: 1847 | C11: 2793 | D11: 2951 | E11: 2580 | F11: 1758 | G11: 2518 | H11: 2486 | I11: 2427 | J11: 1917 | K11: 2445 | L11: 2448 | M11: 2400 | N11: 1959 | O11: 2608 | P11: 2627 | Q11: 2756 | R11: 2221 | S11: 2919 | T11: 2874 | U11: 2676 | V11: 1588 | W11: 2357 | X11: 2479 | Y11: 2418 | Z11: 1773 | AA11: 2244 | AB11: 2271 | AC11: 2431 | AD11: 1879.2291 | AE11: 2379.4844 | AF11: 2917.5205 | AG11: 2647.9132 | AH11: 2411.4587 | AI11: 2765 | AJ11: 2640.2208 | AK11: 2467.5115 | AL11: 2048.4915 | AM11: 2429.6242 | AN11: 2425.4782 | AO11: 2217 | AP11: 1935.9628 | AQ11: 2196.6559 | AR11: 2119 | AS11: 1894 | AT11: 1731 | AU11: 2084 | AV11: 2214
A12: Global Technologies | B12: 2071 | C12: 2315 | D12: 2210 | E12: 2504 | F12: 2147 | G12: 2424 | H12: 2439 | I12: 2687 | J12: 2481 | K12: 2640 | L12: 2417 | M12: 2835 | N12: 2477 | O12: 2871 | P12: 3001 | Q12: 3602 | R12: 3348 | S12: 3706 | T12: 3991 | U12: 4377 | V12: 3933 | W12: 3252 | X12: 3428 | Y12: 3545 | Z12: 3301 | AA12: 3641 | AB12: 3705 | AC12: 3958 | AD12: 4051.1515 | AE12: 4417.1015 | AF12: 5141.9607 | AG12: 5733.9991 | AH12: 5581.6681 | AI12: 5869 | AJ12: 5763.2439 | AK12: 5885.3982 | AL12: 5433.3728 | AM12: 5939.3815 | AN12: 6313.041 | AO12: 6493 | AP12: 6258 | AQ12: 6327.0423 | AR12: 6729 | AS12: 6763 | AT12: 5989 | AU12: 6590 | AV12: 7104
A13: Entrance Systems | B13: 4041 | C13: 4325 | D13: 4494 | E13: 5097 | F13: 4291 | G13: 4767 | H13: 4960 | I13: 5772 | J13: 5087 | K13: 5381 | L13: 5242 | M13: 6072 | N13: 5322 | O13: 5914 | P13: 5909 | Q13: 6616 | R13: 5922 | S13: 6310 | T13: 6427 | U13: 6893 | V13: 6727 | W13: 6552 | X13: 7116 | Y13: 7927 | Z13: 7499 | AA13: 8007 | AB13: 8058 | AC13: 9127 | AD13: 9652.7968 | AE13: 10673.338 | AF13: 11066.283 | AG13: 11535.4 | AH13: 11036.547 | AI13: 11715 | AJ13: 11724.873 | AK13: 12188.585 | AL13: 11441.971 | AM13: 12196.297 | AN13: 11972.958 | AO13: 13839 | AP13: 12586 | AQ13: 12403.997 | AR13: 12595 | AS13: 13131 | AT13: 11665 | AU13: 12988 | AV13: 13502
A14: Other | B14: -315 | C14: -372 | D14: -354 | E14: -275 | F14: -278 | G14: -340 | H14: -324 | I14: -321 | J14: -313 | K14: -312 | L14: -312 | M14: -310 | N14: -337 | O14: -400 | P14: -429 | Q14: -465 | R14: -506 | S14: -543 | T14: -477 | U14: -425 | V14: -390 | W14: -475 | X14: -401 | Y14: -400 | Z14: -430 | AA14: -458 | AB14: -548 | AC14: -600 | AD14: -542.1022 | AE14: -600.06901 | AF14: -702.95369 | AG14: -660.15748 | AH14: -729.45401 | AI14: -626 | AJ14: -398.36797 | AK14: -419.01183 | AL14: -472.48391 | AM14: -549.83328 | AN14: -516.90224 | AO14: -488 | AP14: -475 | AQ14: -444.313 | AR14: -461 | AS14: -459 | AT14: -499 | AU14: -554 | AV14: -606
A15: Group | B15: 15252 | C15: 17082 | D15: 17465 | E15: 18301 | F15: 15891 | G15: 17894 | H15: 18025 | I15: 19484 | J15: 18142 | K15: 19387 | L15: 18499 | M15: 20109 | N15: 18550 | O15: 21140 | P15: 21191 | Q15: 23167 | R15: 21505 | S15: 23544 | T15: 24034 | U15: 24946 | V15: 22173 | W15: 19953 | X15: 22225 | Y15: 23298 | Z15: 21805 | AA15: 23648 | AB15: 23930 | AC15: 25623 | AD15: 26591.031 | AE15: 29466.389 | AF15: 31820.37 | AG15: 32915.333 | AH15: 32390.696 | AI15: 34474 | AJ15: 36880.979 | AK15: 36969.677 | AL15: 35200.284 | AM15: 37967.951 | AN15: 37418.04 | AO15: 39575 | AP15: 37939.821 | AQ15: 38015 | AR15: 38146 | AS15: 38307 | AT15: 35751 | AU15: 39259 | AV15: 40771
A17: Cost of goods sold | B17: -9283 | C17: -10459 | D17: -10707 | E17: -11254 | F17: -9596 | G17: -10863 | H17: -10885 | I17: -12975 | J17: -10951 | K17: -11806 | L17: -11206 | M17: -12185 | N17: -11178 | O17: -12796 | P17: -12799 | Q17: -14573 | R17: -12909 | S17: -14044 | T17: -14408 | U17: -15138 | V17: -13200 | W17: -12305 | X17: -13199 | Y17: -14633 | Z17: -13084 | AA17: -14210 | AB17: -14395 | AC17: -15542 | AD17: -16115 | AE17: -17836.389 | AF17: -19194 | AG17: -19716 | AH17: -19781 | AI17: -20255 | AJ17: -22115 | AK17: -22061 | AL17: -20671 | AM17: -22110 | AN17: -21662 | AO17: -22992 | AP17: -22295 | AQ17: -21704 | AR17: -21684 | AS17: -21757 | AT17: -20298 | AU17: -22378 | AV17: -22897
A19: Gross income | B19: 5969 | C19: 6623 | D19: 6758 | E19: 7046 | F19: 6295 | G19: 7031 | H19: 7139 | I19: 6509 | J19: 7190 | K19: 7581 | L19: 7293 | M19: 7924 | N19: 7372 | O19: 8345 | P19: 8392 | Q19: 8594 | R19: 8596 | S19: 9500 | T19: 9625 | U19: 9809 | V19: 8973 | W19: 7648 | X19: 9026 | Y19: 8665 | Z19: 8722 | AA19: 9438 | AB19: 9535 | AC19: 10082 | AD19: 10476 | AE19: 11630 | AF19: 12626 | AG19: 13199 | AH19: 12610 | AI19: 14219 | AJ19: 14766 | AK19: 14909 | AL19: 14530 | AM19: 15858 | AN19: 15756 | AO19: 16584 | AP19: 16221 | AQ19: 16301 | AR19: 16459 | AS19: 16500 | AT19: 15453 | AU19: 16882 | AV19: 17874
A21: Selling, administrative and R&D costs | B21: -3664 | C21: -3933 | D21: -3817 | E21: -4036 | F21: -3917 | G21: -4153 | H21: -4151 | I21: -5223 | J21: -4431 | K21: -4494 | L21: -4243 | M21: -4608 | N21: -4575 | O21: -5496 | P21: -5006 | Q21: -6101 | R21: -5388 | S21: -5790 | T21: -5774 | U21: -6117 | V21: -6266 | W21: -5593 | X21: -5597 | Y21: -6564 | Z21: -5537 | AA21: -5851 | AB21: -6143 | AC21: -6083 | AD21: -6480 | AE21: -7228 | AF21: -7657 | AG21: -8059 | AH21: -8653 | AI21: -8741 | AJ21: -9353 | AK21: -9307 | AL21: -9104 | AM21: -9775 | AN21: -9521 | AO21: -10123 | AP21: -11341 | AQ21: -10130 | AR21: -10043 | AS21: 10103 | AT21: -9994 | AU21: -10258 | AV21: -10781
A22: Share of earnings in associates | B22: 23 | C22: 52 | D22: 30 | E22: 28 | F22: 33 | G22: 33 | H22: 31 | I22: 30 | J22: 28 | K22: 27 | L22: 30 | M22: 43 | N22: 32 | O22: 62 | P22: 38 | Q22: 35 | R22: 38 | S22: 22 | T22: 43 | U22: 44 | V22: 44 | W22: 42 | X22: 163 | Y22: 8 | Z22: 3 | AA22: 3 | AB22: 0.17 | AC22: 13.47 | AD22: 6 | AE22: 4 | AF22: 4 | AG22: 12.34 | AH22: 4 | AI22: 4 | AJ22: 4 | AK22: 5 | AL22: 1 | AM22: 1 | AN22: 19 | AO22: 23 | AP22: 10 | AQ22: 1 | AR22: 6 | AS22: 10 | AT22: 2 | AU22: 7 | AV22: 7
A23: Impairment of goodwill and other intangible assets | O23: -5595 | AI23: -2268 | AJ23: -4 | AK23: 1 | AL23: 0 | AM23: 0 | AN23: 0 | AO23: 0 | AP23: 0 | AQ23: 0 | AR23: 0 | AS23: 0 | AT23: 0 | AU23: 0 | AV23: 0
A24: Capital gain from divestment | AI24: 3661 | AJ24: -4 | AK24: -69 | AL24: -18 | AM24: -13 | AN24: -43 | AO24: 99 | AP24: -6 | AQ24: -228 | AR24: 3 | AS24: 3 | AT24: - | AU24: 50 | AV24: 2
A25: Revaluation previously owned shares in associated | X25: 1910 | Y25: -1
A27: Group EBITA | F27: 2457 | G27: 2956 | H27: 3072 | I27: 2965 | J27: 2839 | K27: 3168 | L27: 3132 | M27: 3446 | N27: 2921 | O27: 3007 | P27: 3516 | Q27: 3858 | R27: 3352 | S27: 3852 | T27: 4010 | U27: 4188 | V27: 2884 | W27: 2237 | X27: 3734 | Y27: 3634 | Z27: 3341 | AA27: 3740 | AB27: 3539 | AC27: 4161 | AD27: 5153 | AE27: 4557 | AF27: 5139 | AG27: 5338 | AH27: 5379 | AI27: 5722 | AJ27: 6152 | AK27: 6008 | AL27: 5740 | AM27: 6434 | AN27: 6609 | AO27: 6898 | AP27: 6051 | AQ27: 6555 | AR27: 6815 | AS27: 6896 | AT27: 5859 | AU27: 7091 | AV27: 7612
A28: EBITA excluding items affecting comparability, % | F28: 15.5 | G28: 16.5 | H28: 17 | I28: 15.2 | J28: 15.7 | K28: 16.3 | L28: 16.9 | M28: 17.1 | N28: 15.7 | O28: 16.1 | P28: 16.6 | Q28: 16.7 | R28: 15.6 | S28: 16.4 | T28: 16.7 | U28: 16.8 | V28: 13 | W28: 11.2 | X28: 16.8 | Y28: 15.6 | Z28: 15.3 | AA28: 15.8 | AB28: 14.8 | AC28: 16.2 | AD28: 15.6 | AE28: 15.5 | AF28: 16.2 | AG28: 16.2 | AH28: 16.6 | AI28: 16.6 | AJ28: 16.7 | AK28: 16.2 | AL28: 16.3 | AM28: 16.9 | AN28: 17.7 | AO28: 17.4 | AP28: 15.9 | AQ28: 17.2 | AR28: 17.9 | AS28: 17.9 | AT28: 16.4 | AU28: 18.1 | AV28: 18.7
A30: EBIT excluding items affecting comparability
A31: EMEIA | B31: 626 | C31: 614 | D31: 676 | E31: 705 | F31: 634 | G31: 649 | H31: 673 | I31: 766 | J31: 718 | K31: 713 | L31: 717 | M31: 842 | N31: 764 | O31: 807 | P31: 774 | Q31: 911 | R31: 841 | S31: 849 | T31: 822 | U31: 884 | V31: 607 | W31: 220 | X31: 765 | Y31: 670 | Z31: 755 | AA31: 782 | AB31: 572 | AC31: 806 | AD31: 775.7729 | AE31: 801.31318 | AF31: 825.03965 | AG31: 933.25179 | AH31: 857.88847 | AI31: 777 | AJ31: 838.36867 | AK31: 915.43349 | AL31: 849.88132 | AM31: 871.59829 | AN31: 869.32642 | AO31: 962 | AP31: 893.65199 | AQ31: 886.417 | AR31: 951 | AS31: 1017 | AT31: 967 | AU31: 1102 | AV31: 1062
A32: Americas | B32: 772 | C32: 870 | D32: 884 | E32: 838 | F32: 824 | G32: 949 | H32: 959 | I32: 908 | J32: 961 | K32: 1041 | L32: 966 | M32: 847 | N32: 845 | O32: 1022 | P32: 1046 | Q32: 1027 | R32: 1040 | S32: 1203 | T32: 1249 | U32: 1182 | V32: 1048 | W32: 769 | X32: 966 | Y32: 915 | Z32: 955 | AA32: 1017 | AB32: 1112 | AC32: 1116 | AD32: 1264.5175 | AE32: 1451.1997 | AF32: 1600.1325 | AG32: 1583.1987 | AH32: 1706.7016 | AI32: 1755 | AJ32: 1870.3662 | AK32: 1853.5464 | AL32: 1910.0599 | AM32: 2198.3934 | AN32: 2148.6511 | AO32: 1950 | AP32: 1915.2905 | AQ32: 2080.473 | AR32: 2003 | AS32: 1845 | AT32: 1854 | AU32: 2150 | AV32: 2314
A33: APAC | B33: 189 | C33: 403 | D33: 464 | E33: 381 | F33: 174 | G33: 355 | H33: 306 | I33: -47 | J33: 151 | K33: 274 | L33: 277 | M33: 232 | N33: 154 | O33: 232 | P33: 242 | Q33: 264 | R33: 115 | S33: 270 | T33: 274 | U33: 220 | V33: -152 | W33: 167 | X33: 183 | Y33: 199 | Z33: 78 | AA33: 202 | AB33: 132 | AC33: 88 | AD33: 67 | AE33: 44.70009 | AF33: 131.9834 | AG33: -124.72155 | AH33: 110.69332 | AI33: 215 | AJ33: 229.14779 | AK33: 107.02812 | AL33: 105.2741 | AM33: 202.68283 | AN33: 192.5134 | AO33: 119 | AP33: 80.070141 | AQ33: 210.694 | AR33: 217 | AS33: 145 | AT33: 88 | AU33: 191 | AV33: 217
A34: Global Technologies | B34: 360 | C34: 417 | D34: 410 | E34: 460 | F34: 363 | G34: 447 | H34: 442 | I34: 500 | J34: 422 | K34: 486 | L34: 431 | M34: 608 | N34: 466 | O34: 564 | P34: 641 | Q34: 716 | R34: 598 | S34: 682 | T34: 810 | U34: 800 | V34: 563 | W34: 328 | X34: 550 | Y34: 582 | Z34: 472 | AA34: 573 | AB34: 585 | AC34: 623 | AD34: 516.16049 | AE34: 676.51915 | AF34: 890.01582 | AG34: 981.95161 | AH34: 939.27205 | AI34: 1082 | AJ34: 1064.8129 | AK34: 910.13268 | AL34: 839.20805 | AM34: 936.51058 | AN34: 1194.6249 | AO34: 1253 | AP34: 855 | AQ34: 1169.408 | AR34: 1330 | AS34: 1281 | AT34: 918 | AU34: 1299 | AV34: 1421
A35: Entrance Systems | B35: 486 | C35: 556 | D35: 623 | E35: 770 | F35: 529 | G35: 628 | H35: 709 | I35: 888 | J35: 638 | K35: 720 | L35: 762 | M35: 966 | N35: 710 | O35: 819 | P35: 831 | Q35: 998 | R35: 779 | S35: 875 | T35: 873 | U35: 1125 | V35: 821 | W35: 745 | X35: 1266 | Y35: 1251 | Z35: 1096 | AA35: 1196 | AB35: 1191 | AC35: 1505 | AD35: 1555 | AE35: 1650.945 | AF35: 1735.259 | AG35: 1905.7567 | AH35: 1786.0284 | AI35: 1899 | AJ35: 1995.1049 | AK35: 2126.0013 | AL35: 1944.0628 | AM35: 2076.697 | AN35: 2047.2782 | AO35: 2424 | AP35: 2109 | AQ35: 2043.203 | AR35: 2187 | AS35: 2359 | AT35: 1874 | AU35: 2175 | AV35: 2302
A36: Other | B36: -104 | C36: -118 | D36: -87 | E36: -116 | F36: -113 | G36: -118 | H36: -69 | I36: -1699 | J36: -103 | K36: -120 | L36: -73 | M36: -136 | N36: -110 | O36: -133 | P36: -110 | Q36: -170 | R36: -127 | S36: -146 | T36: -134 | U36: -164 | V36: -136 | W36: -132 | X36: -137 | Y36: -142 | Z36: -169 | AA36: -181 | AB36: -201 | AC36: -125 | AD36: -176.52813 | AE36: -219.04039 | AF36: -209.68564 | AG36: -127.19335 | AH36: -214.63265 | AI36: -228 | AJ36: -221 | AK36: -189.88935 | AL36: -221.48404 | AM36: -200.93604 | AN36: -197.65804 | AO36: -179 | AP36: -208 | AQ36: -235.466 | AR36: -272 | AS36: -199 | AT36: -239 | AU36: -236 | AV36: -215
A37: Group EBIT | B37: 2329 | C37: 2742 | D37: 2970 | E37: 3038 | F37: 2411 | G37: 2910 | H37: 3020 | I37: 1316 | J37: 2787 | K37: 3114 | L37: 3080 | M37: 3359 | N37: 2829 | O37: 3311 | P37: 3424 | Q37: 3746 | R37: 3246 | S37: 3733 | T37: 3894 | U37: 4047 | V37: 2751 | W37: 2097 | X37: 3593 | Y37: 3475 | Z37: 3187 | AA37: 3589 | AB37: 3392 | AC37: 4013 | AD37: 4001 | AE37: 4405.6367 | AF37: 4972.7446 | AG37: 5152.2439 | AH37: 5185.9511 | AI37: 5500 | AJ37: 5777 | AK37: 5722.2526 | AL37: 5427.0021 | AM37: 6084.946 | AN37: 6254.7359 | AO37: 6529 | AP37: 5645.2936 | AQ37: 6155 | AR37: 6416.3124 | AS37: 6448 | AT37: 5461 | AU37: 6680 | AV37: 7102
A39: EBIT excluding items affecting comparability, %
A40: EMEIA | B40: 15.9 | C40: 15.1 | D40: 16.5 | E40: 16 | F40: 15.8 | G40: 15.3 | H40: 16.7 | I40: 16.8 | J40: 16.3 | K40: 15.7 | L40: 16.8 | M40: 17.3 | N40: 16 | O40: 15.9 | P40: 15.9 | Q40: 16.6 | R40: 16.2 | S40: 16 | T40: 16.1 | U40: 16 | V40: 12 | W40: 5.7 | X40: 15.9 | Y40: 12.8 | Z40: 14.9 | AA40: 14.9 | AB40: 11.3 | AC40: 15.5 | AD40: 14.6 | AE40: 14.4 | AF40: 14.3 | AG40: 15 | AH40: 13.8 | AI40: 12.5 | AJ40: 13.8 | AK40: 14.4 | AL40: 13.7 | AM40: 13.6 | AN40: 14.5 | AO40: 14.8 | AP40: 13.8 | AQ40: =AQ31/AQ9*100 -> 13.922362 | AR40: 15 | AS40: 15.3 | AT40: 14.8 | AU40: 16.5 | AV40: 15.8
A41: Americas | B41: 21.1 | C41: 22 | D41: 21.8 | E41: 21 | F41: 20.8 | G41: 22.1 | H41: 21.7 | I41: 20.8 | J41: 21 | K41: 22.1 | L41: 21.8 | M41: 19.9 | N41: 19.4 | O41: 20.1 | P41: 20.1 | Q41: 19.9 | R41: 19.6 | S41: 20.5 | T41: 20.5 | U41: 20 | V41: 19.9 | W41: 17.5 | X41: 20.2 | Y41: 20 | Z41: 20.7 | AA41: 20.4 | AB41: 20.6 | AC41: 20.2 | AD41: 20.3 | AE41: 20.6 | AF41: 20.9 | AG41: 21.3 | AH41: 21.7 | AI41: 20.5 | AJ41: 16.9 | AK41: 17.6 | AL41: 18.1 | AM41: 19 | AN41: 19.2 | AO41: 17.7 | AP41: 17.1 | AQ41: =AQ32/AQ10*100 -> 18.633627 | AR41: 18.5 | AS41: 17.9 | AT41: 17.9 | AU41: 18.7 | AV41: 19.6
A42: APAC | B42: 10.2 | C42: 14.4 | D42: 15.7 | E42: 14.8 | F42: 9.9 | G42: 14.1 | H42: 12.3 | I42: -2 | J42: 7.9 | K42: 11.2 | L42: 11.3 | M42: 9.7 | N42: 7.9 | O42: 8.9 | P42: 9.2 | Q42: 9.6 | R42: 5.2 | S42: 9.3 | T42: 9.5 | U42: 8.2 | V42: -9.6 | W42: 7.1 | X42: 7.4 | Y42: 8.2 | Z42: 4.4 | AA42: 9 | AB42: 5.8 | AC42: 3.6 | AD42: 3.5 | AE42: 1.9 | AF42: 4.5 | AG42: -4.7 | AH42: 4.6 | AI42: 7.8 | AJ42: 8.7 | AK42: 4.3 | AL42: 5.1 | AM42: 8.3 | AN42: 7.9 | AO42: 5.4 | AP42: 4.1 | AQ42: =AQ33/AQ11*100 -> 9.5915796 | AR42: 10.2 | AS42: 7.6 | AT42: 5.1 | AU42: 9.2 | AV42: 9.8
A43: Global Technologies | B43: 17.4 | C43: 18 | D43: 18.6 | E43: 18.4 | F43: 16.9 | G43: 18.5 | H43: 18.1 | I43: 18.6 | J43: 17 | K43: 18.4 | L43: 17.8 | M43: 21.5 | N43: 18.8 | O43: 19.6 | P43: 21.4 | Q43: 19.9 | R43: 17.9 | S43: 18.4 | T43: 20.3 | U43: 18.3 | V43: 14.3 | W43: 10.1 | X43: 16 | Y43: 16.4 | Z43: 14.3 | AA43: 15.7 | AB43: 15.8 | AC43: 15.7 | AD43: 12.7 | AE43: 15.3 | AF43: 17.3 | AG43: 17.1 | AH43: 16.8 | AI43: 18.4 | AJ43: 18.5 | AK43: 15.5 | AL43: 15.4 | AM43: 15.8 | AN43: 18.9 | AO43: 19.3 | AP43: 13.7 | AQ43: =AQ34/AQ12*100 -> 18.482696 | AR43: 19.8 | AS43: 18.9 | AT43: 15.3 | AU43: 19.7 | AV43: 20
A44: Entrance Systems | B44: 12 | C44: 12.9 | D44: 13.9 | E44: 15.1 | F44: 12.3 | G44: 13.2 | H44: 14.3 | I44: 15.4 | J44: 12.5 | K44: 13.4 | L44: 14.5 | M44: 15.9 | N44: 13.3 | O44: 13.8 | P44: 14.1 | Q44: 15.1 | R44: 13.2 | S44: 13.9 | T44: 13.6 | U44: 16.3 | V44: 12.2 | W44: 11.4 | X44: 17.8 | Y44: 15.8 | Z44: 14.6 | AA44: 14.9 | AB44: 14.8 | AC44: 16.5 | AD44: 16.1 | AE44: 15.5 | AF44: 15.7 | AG44: 16.5 | AH44: 16.2 | AI44: 16.2 | AJ44: 17 | AK44: 17.4 | AL44: 17 | AM44: 17 | AN44: 17.1 | AO44: 17.5 | AP44: 16.8 | AQ44: =AQ35/AQ13*100 -> 16.472134 | AR44: 17.4 | AS44: 18 | AT44: 16.1 | AU44: 16.7 | AV44: 17.1
A45: Group EBIT % | B45: 15.3 | C45: 16.1 | D45: 17 | E45: 16.6 | F45: 15.2 | G45: 16.3 | H45: 16.8 | I45: 15 | J45: 15.4 | K45: 16.1 | L45: 16.7 | M45: 16.7 | N45: 15.3 | O45: 15.7 | P45: 16.2 | Q45: 16.2 | R45: 15.1 | S45: 15.9 | T45: 16.2 | U45: 16.2 | V45: 12.4 | W45: 10.5 | X45: 16.2 | Y45: 14.9 | Z45: 14.6 | AA45: 15.2 | AB45: 14.2 | AC45: 15.7 | AD45: 15 | AE45: 15 | AF45: 15.6 | AG45: 15.7 | AH45: 16 | AI45: 16 | AJ45: 15.7 | AK45: 15.5 | AL45: 15.4 | AM45: 16 | AN45: 16.7 | AO45: 16.5 | AP45: 14.9 | AQ45: =AQ37/AQ15*100 -> 16.190977 | AR45: 16.8 | AS45: 16.8 | AT45: 15.3 | AU45: 17 | AV45: 17.4
A47: Finance net | B47: -145 | C47: -191 | D47: -174 | E47: -187 | F47: -201 | G47: -181 | H47: -175 | I47: -146 | J47: -195 | K47: 170 | L47: -171 | M47: -133 | N47: -175 | O47: -191 | P47: -203 | Q47: -230 | R47: -248 | S47: -271 | T47: -250 | U47: -268 | V47: -232 | W47: -205 | X47: -176 | Y47: -169 | Z47: -142 | AA47: -148 | AB47: -159 | AC47: -194 | AD47: -190 | AE47: -198 | AF47: -237 | AG47: -387 | AH47: -343 | AI47: -445 | AJ47: -900 | AK47: -843 | AL47: -811 | AM47: -849 | AN47: -878 | AO47: -845 | AP47: -879 | AQ47: -836 | AR47: -853 | AS47: -760 | AT47: -711 | AU47: -745 | AV47: -768
A49: Income before tax | B49: 2184 | C49: 2551 | D49: 2796 | E49: 2851 | F49: 2209 | G49: 2729 | H49: 2844 | I49: 1170 | J49: 2593 | K49: 2944 | L49: 2910 | M49: 3226 | N49: 2654 | O49: -3220 | P49: 3221 | Q49: 2297 | R49: 2997 | S49: 3462 | T49: 3645 | U49: 3467 | V49: 2519 | W49: 1892 | X49: 5326 | Y49: 3306 | Z49: 3045 | AA49: 3441 | AB49: 3233 | AC49: 3819 | AD49: 3811 | AE49: 4208 | AF49: 4736 | AG49: 4766 | AH49: 3619 | AI49: 6430 | AJ49: 4509 | AK49: 4696 | AL49: 4598 | AM49: 5223 | AN49: 5333 | AO49: 5739 | AP49: 3429 | AQ49: 5119 | AR49: 5575 | AS49: 5699 | AT49: 4749 | AU49: 5936 | AV49: 6333
A51: Tax on income | B51: -568 | C51: -663 | D51: -727 | E51: -731 | F51: -574 | G51: -709 | H51: -739 | I51: -304 | J51: -674 | K51: -765 | L51: -757 | M51: -842 | N51: -690 | O51: -344 | P51: -838 | Q51: -670 | R51: -779 | S51: -900 | T51: -948 | U51: -947 | V51: -655 | W51: -492 | X51: -888 | Y51: -469 | Z51: -792 | AA51: -229 | AB51: -841 | AC51: -777 | AD51: -953 | AE51: -1052 | AF51: -1184 | AG51: -1036 | AH51: -905 | AI51: -2854 | AJ51: -1139 | AK51: -717 | AL51: -1150 | AM51: -1306 | AN51: -1333 | AO51: -1483 | AP51: -981 | AQ51: -1305 | AR51: -1421 | AS51: -1407 | AT51: -1211 | AU51: -1513 | AV51: -1615
A53: Net income for the period | B53: 1616 | C53: 1888 | D53: 2069 | E53: 2120 | F53: 1638 | G53: 2026 | H53: 2122 | I53: 8670 | J53: 1918 | K53: 2179 | L53: 2153 | M53: 2385 | N53: 1964 | O53: -3220 | P53: 2384 | Q53: 1627 | R53: 2218 | S53: 2562 | T53: 2697 | U53: 2520 | V53: 1864 | W53: 1400 | X53: 4438 | Y53: 2582 | Z53: 2253 | AA53: 3212 | AB53: 2392 | AC53: 3043 | AD53: 2859 | AE53: 3156 | AF53: 3552 | AG53: 3729 | AH53: 2714 | AI53: 3576 | AJ53: 3371 | AK53: 3979 | AL53: 3449 | AM53: 3917 | AN53: 4000 | AO53: 4255 | AP53: 2448 | AQ53: 3814 | AR53: 4154 | AS53: 4292 | AT53: 3538 | AU53: 4422 | AV53: 4718
A55: Operating cash flow
...

Sheet Q BS
A4: Quarterly figures (M SEK)
B6: 2015 | F6: 2016 | J6: 2017 | N6: 2018 | R6: 2019 | V6: 2020 | Z6: 2021 | AD6: 2022 | AH6: 2023 | AL6: 2024 | AP6: 2025 | AT6: 2026
B7: Q1 | C7: Q2 | D7: Q3 | E7: Q4 | F7: Q1 | G7: Q2 | H7: Q3 | I7: Q4 | J7: Q1 | K7: Q2 | L7: Q3 | M7: Q4 | N7: Q1 | O7: Q2 | P7: Q3 | Q7: Q4 | R7: Q1 | S7: Q2 | T7: Q3 | U7: Q4 | V7: Q1 | W7: Q2 | X7: Q3 | Y7: Q4 | Z7: Q1 | AA7: Q2 | AB7: Q3 | AC7: Q4 | AD7: Q1 | AE7: Q2 | AF7: Q3 | AG7: Q4 | AH7: Q1 | AI7: Q2 | AJ7: Q3 | AK7: Q4 | AL7: Q1 | AM7: Q2 | AN7: Q3 | AO7: Q4 | AP7: Q1 | AQ7: Q2 | AR7: Q3 | AS7: Q4 | AT7: Q1 | AU7: Q2 | AV7: Q3 | AW7: Q4
A8: Assets
A9: Non-current assets
A10: Intangible assets | B10: 51317 | C10: 50811 | D10: 51581 | E10: 51863 | F10: 52054 | G10: 53539 | H10: 54386 | I10: 57096 | J10: 57001 | K10: 55652 | L10: 55764 | M10: 61409 | N10: 63614 | O10: 61133 | P10: 62831 | Q10: 64861 | R10: 67312 | S10: 68239 | T10: 71773 | U10: 70355 | V10: 74791 | W10: 70745 | X10: 76729 | Y10: 72452 | Z10: 75268 | AA10: 74201 | AB10: 74524 | AC10: 76336 | AD10: 77478 | AE10: 84012 | AF10: 88314 | AG10: 90897 | AH10: 90614 | AI10: 133060 | AJ10: 134340 | AK10: 127704 | AL10: 135680 | AM10: 136286 | AN10: 135662 | AO10: 145405 | AP10: 142860 | AQ10: 139942 | AR10: 140024 | AS10: 137958 | AT10: =104689+38393 -> 143082 | AU10: 148240 | AV10: 152066
A11: Property, plant and equipment | B11: 8100 | C11: 752 | D11: 7517 | E11: 7562 | F11: 7657 | G11: 7884 | H11: 7955 | I11: 8066 | J11: 8031 | K11: 7909 | L11: 7841 | M11: 8065 | N11: 8362 | O11: 8469 | P11: 8389 | Q11: 807 | R11: 833 | S11: 8326 | T11: 8657 | U11: 8498 | V11: 8972 | W11: 8562 | X11: 8897 | Y11: 8026 | Z11: 8329 | AA11: 8186 | AB11: 8325 | AC11: 8753 | AD11: 8934 | AE11: 9538 | AF11: 10079 | AG11: 10106 | AH11: 10178 | AI11: 11885 | AJ11: 12111 | AK11: 11460 | AL11: 12129 | AM11: 12134 | AN11: 12222 | AO11: 12653 | AP11: 11684 | AQ11: 11652 | AR11: 11724 | AS11: 11807 | AT11: 12257 | AU11: 12841 | AV11: 13777
A12: Right-of-use assets | Q12: 119 | R12: 3805 | S12: 3705 | T12: 3746 | U12: 3731 | V12: 3909 | W12: 3592 | X12: 3779 | Y12: 3513 | Z12: 3619 | AA12: 3466 | AB12: 3330 | AC12: 3436 | AD12: 3450 | AE12: 3601 | AF12: 3735 | AG12: 3804 | AH12: 4075 | AI12: 5476 | AJ12: 5501 | AK12: 5296 | AL12: 5837 | AM12: 5789 | AN12: 5670 | AO12: 6295 | AP12: 6068 | AQ12: 6005 | AR12: 6233 | AS12: 6287 | AT12: 6496 | AU12: 6666 | AV12: 6759
A13: Investments in associates | B13: 189 | C13: 1901 | D13: 1934 | E13: 191 | F13: 197 | G13: 2037 | H13: 2095 | I13: 2109 | J13: 2176 | K13: 2193 | L13: 2147 | M13: 2243 | N13: 2385 | O13: 2391 | P13: 2383 | Q13: 2434 | R13: 251 | S13: 2534 | T13: 2643 | U13: 2595 | V13: 2772 | W13: 2665 | X13: 685 | Y13: 637 | Z13: 638 | AA13: 626 | AB13: 636 | AC13: 652 | AD13: 637 | AE13: 636 | AF13: 652 | AG13: 676 | AH13: 657 | AI13: 644 | AJ13: 631 | AK13: 622 | AL13: 623 | AM13: 590 | AN13: 693 | AO13: 710 | AP13: 605 | AQ13: 598 | AR13: 582 | AS13: 564 | AT13: 567 | AU13: 571 | AV13: 607
A14: Other financial assets | B14: 75 | C14: 73 | D14: 78 | E14: 77 | F14: 80 | G14: 87 | H14: 89 | I14: 86 | J14: 88 | K14: 85 | L14: 255 | M14: 227 | N14: 169 | O14: 173 | P14: 148 | Q14: 152 | R14: 91 | S14: 91 | T14: 104 | U14: 104 | V14: 112 | W14: 109 | X14: 105 | Y14: 212 | Z14: 218 | AA14: 259 | AB14: 259 | AC14: 267 | AD14: 273 | AE14: 320 | AF14: 326 | AG14: 373 | AH14: 371 | AI14: 552 | AJ14: 557 | AK14: 412 | AL14: 496 | AM14: 491 | AN14: 494 | AO14: 698 | AP14: 664 | AQ14: 668 | AR14: 655 | AS14: 626 | AT14: 632 | AU14: 658 | AV14: 668
A15: Deferred tax assets | B15: 1634 | C15: 147 | D15: 1447 | E15: 1434 | F15: 1535 | G15: 1712 | H15: 1776 | I15: 1899 | J15: 1763 | K15: 1758 | L15: 1651 | M15: 1355 | N15: 2012 | O15: 2052 | P15: 1922 | Q15: 1354 | R15: 1402 | S15: 1546 | T15: 1498 | U15: 1205 | V15: 1277 | W15: 1381 | X15: 1422 | Y15: 1338 | Z15: 1159 | AA15: 1494 | AB15: 1363 | AC15: 1264 | AD15: 1162 | AE15: 1182 | AF15: 1200 | AG15: 1313 | AH15: 1444 | AI15: 1686 | AJ15: 1685 | AK15: 1863 | AL15: 1847 | AM15: 1773 | AN15: 1829 | AO15: 2097 | AP15: 2000 | AQ15: 1967 | AR15: 2071 | AS15: 1735 | AT15: 1884 | AU15: 1878 | AV15: 1998
A16: Total non-current assets | B16: 63015 | C16: 61774 | D16: 62557 | E16: 62847 | F16: 63297 | G16: 65259 | H16: 66300 | I16: 69257 | J16: 69060 | K16: 67596 | L16: 67658 | M16: 73299 | N16: 76540 | O16: 74219 | P16: 75674 | Q16: 76991 | R16: 83450 | S16: 84442 | T16: 88421 | U16: 86487 | V16: 91832 | W16: 87054 | X16: 91617 | Y16: 86178 | Z16: 89232 | AA16: 88232 | AB16: 88438 | AC16: 90707 | AD16: 91933 | AE16: 99289 | AF16: 104305 | AG16: 107170 | AH16: 107339 | AI16: 153303 | AJ16: 154826 | AK16: 147357 | AL16: 156611 | AM16: 157065 | AN16: 156570 | AO16: 167859 | AP16: 163881 | AQ16: 160831 | AR16: 161290 | AS16: 158976 | AT16: 164918 | AU16: 170854 | AV16: 175876
A18: Current assets
A19: Inventories | B19: 8775 | C19: 8735 | D19: 8798 | E19: 8348 | F19: 8731 | G19: 8907 | H19: 9738 | I19: 9565 | J19: 10009 | K19: 10090 | L19: 9593 | M19: 9430 | N19: 10363 | O19: 11117 | P19: 11601 | Q19: 11316 | R19: 12304 | S19: 12319 | T19: 12592 | U19: 11276 | V19: 12170 | W19: 11520 | X19: 11485 | Y19: 10079 | Z19: 10995 | AA19: 11381 | AB19: 12594 | AC19: 13933 | AD19: 15914 | AE19: 18272 | AF19: 19944 | AG19: 19217 | AH19: 18949 | AI19: 21487 | AJ19: 21181 | AK19: 18603 | AL19: 20198 | AM19: 20065 | AN19: 20579 | AO19: 21020 | AP19: 20886 | AQ19: 20339 | AR19: 20477 | AS19: 19247 | AT19: 20804 | AU19: 21865 | AV19: 23607
A20: Trade receivables | B20: 11399 | C20: 11883 | D20: 12204 | E20: 11775 | F20: 11725 | G20: 12833 | H20: 12759 | I20: 12648 | J20: 12800 | K20: 12847 | L20: 12695 | M20: 13068 | N20: 13596 | O20: 14636 | P20: 14613 | Q20: 14496 | R20: 15103 | S20: 15508 | T20: 16115 | U20: 15701 | V20: 16055 | W20: 13718 | X20: 14913 | Y20: 13665 | Z20: 14716 | AA20: 15091 | AB20: 15163 | AC20: 15844 | AD20: 17186 | AE20: 19697 | AF20: 21009 | AG20: 19760 | AH20: 19864 | AI20: 22179 | AJ20: 22377 | AK20: 20934 | AL20: 22396 | AM20: 23309 | AN20: 22767 | AO20: 23444 | AP20: 22584 | AQ20: 22395 | AR20: 22496 | AS20: 21327 | AT20: 22925 | AU20: 24317 | AV20: 24523
A21: Other current receivables and investments | B21: 3154 | C21: 3119 | D21: 3295 | E21: 2707 | F21: 3253 | G21: 3446 | H21: 3631 | I21: 3062 | J21: 3536 | K21: 3607 | L21: 3746 | M21: 3188 | N21: 3817 | O21: 3803 | P21: 4149 | Q21: 3227 | R21: 3930 | S21: 4375 | T21: 4719 | U21: 4144 | V21: 5554 | W21: 5293 | X21: 5478 | Y21: 4750 | Z21: 4880 | AA21: 4594 | AB21: 5074 | AC21: 5165 | AD21: 6144 | AE21: 6034 | AF21: 6523 | AG21: 5000 | AH21: 5985 | AI21: 6991 | AJ21: 6767 | AK21: 7991 | AL21: 8438 | AM21: 7081 | AN21: 8040 | AO21: 6778 | AP21: 7855 | AQ21: 8733 | AR21: 8473 | AS21: 7423 | AT21: 7402 | AU21: 7205 | AV21: 7408
A22: Assets of disposal group classified as held for sale | F22: 218 | G22: 235
A23: Cash and cash equivalents | B23: 515 | C23: 646 | D23: 648 | E23: 501 | F23: 578 | G23: 564 | H23: 604 | I23: 750 | J23: 697 | K23: 844 | L23: 440 | M23: 459 | N23: 551 | O23: 496 | P23: 559 | Q23: 538 | R23: 414 | S23: 355 | T23: 459 | U23: 442 | V23: 1676 | W23: 3726 | X23: 4906 | Y23: 2756 | Z23: 3610 | AA23: 3544 | AB23: 5995 | AC23: 4325 | AD23: 4113 | AE23: 1707 | AF23: 2978 | AG23: 3417 | AH23: 2811 | AI23: 6665 | AJ23: 1688 | AK23: 1466 | AL23: 2437 | AM23: 3605 | AN23: 4073 | AO23: 4504 | AP23: 4139 | AQ23: 2086 | AR23: 3319 | AS23: 1398 | AT23: 2513 | AU23: 3869 | AV23: 3361
A24: Total current assets | B24: 23844 | C24: 24382 | D24: 24945 | E24: 23330 | F24: 24504 | G24: 25984 | H24: 26732 | I24: 26025 | J24: 27043 | K24: 27387 | L24: 26473 | M24: 26145 | N24: 28327 | O24: 30052 | P24: 30992 | Q24: 29577 | R24: 31751 | S24: 32556 | T24: 3388 | U24: 31563 | V24: 35455 | W24: 34257 | X24: 36782 | Y24: 31250 | Z24: 34201 | AA24: 34611 | AB24: 38826 | AC24: 39267 | AD24: 43357 | AE24: 45710 | AF24: 50454 | AG24: 47394 | AH24: 47608 | AI24: 57323 | AJ24: 52013 | AK24: 48994 | AL24: 53469 | AM24: 54060 | AN24: 55459 | AO24: 55747 | AP24: 55463 | AQ24: 53553 | AR24: 54766 | AS24: 49395 | AT24: 53645 | AU24: 57256 | AV24: 58898
A25: Total assets | B25: 86859 | C25: 86157 | D25: 87502 | E25: 86177 | F25: 87801 | G25: 91243 | H25: 93032 | I25: 95282 | J25: 96103 | K25: 94984 | L25: 94131 | M25: 99444 | N25: 104867 | O25: 104271 | P25: 106596 | Q25: 106568 | R25: 115201 | S25: 116998 | T25: 122306 | U25: 118050 | V25: 127287 | W25: 121311 | X25: 128399 | Y25: 117428 | Z25: 123433 | AA25: 122843 | AB25: 127264 | AC25: 129975 | AD25: 135290 | AE25: 144999 | AF25: 154759 | AG25: 154564 | AH25: 154948 | AI25: 210625 | AJ25: 206839 | AK25: 196351 | AL25: 210080 | AM25: 211125 | AN25: 212029 | AO25: 223605 | AP25: 219344 | AQ25: 214384 | AR25: 216056 | AS25: 208371 | AT25: 218563 | AU25: 228110 | AV25: 234774
A26: Equity and liabilities
A27: Equity
A28: Equity attributable to the Parent company´s shareholders | B28: 39513 | C28: 38105 | D28: 39935 | E28: 41575 | F28: 42551 | G28: 42449 | H28: 44981 | I28: 47220 | J28: 48989 | K28: 46374 | L28: 47292 | M28: 50648 | N28: 53911 | O28: 46268 | P28: 50030 | Q28: 51890 | R28: 55117 | S28: 53708 | T28: 57946 | U28: 59143 | V28: 63044 | W28: 58980 | X28: 62161 | Y28: 58870 | Z28: 63649 | AA28: 63953 | AB28: 67214 | AC28: 69582 | AD28: 73568 | AE28: 78365 | AF28: 86285 | AG28: 86014 | AH28: 88496 | AI28: 93696 | AJ28: 96197 | AK28: 91629 | AL28: 99969 | AM28: 100090 | AN28: 100731 | AO28: 107071 | AP28: 101249 | AQ28: 99316 | AR28: 102875 | AS28: 101597 | AT28: 108464 | AU28: 111193 | AV28: 119034
A29: Non-controlling interest | B29: 2 | C29: 4 | D29: 4 | E29: 4 | F29: 4 | G29: 3 | H29: 4 | I29: 5 | J29: 4 | K29: 5 | L29: 5 | M29: 9 | N29: 9 | O29: 11 | P29: 11 | Q29: 10 | R29: 10 | S29: 6 | T29: 8 | U29: 11 | V29: 13 | W29: 12 | X29: 12 | Y29: 9 | Z29: 10 | AA29: 9 | AB29: 8 | AC29: 9 | AD29: 9 | AE29: 11 | AF29: 13 | AG29: 12 | AH29: 12 | AI29: 10 | AJ29: 36 | AK29: 16 | AL29: 12 | AM29: 12 | AN29: 16 | AO29: 10 | AP29: 132 | AQ29: 118 | AR29: 123 | AS29: 122 | AT29: 165 | AU29: 172 | AV29: 193
A30: Total equity | B30: 39515 | C30: 38110 | D30: 39940 | E30: 41579 | F30: 42554 | G30: 42452 | H30: 44985 | I30: 47224 | J30: 48994 | K30: 46379 | L30: 47297 | M30: 50657 | N30: 53920 | O30: 48279 | P30: 50040 | Q30: 51900 | R30: 55127 | S30: 53714 | T30: 57954 | U30: 59154 | V30: 63057 | W30: 58992 | X30: 62174 | Y30: 58879 | Z30: 63658 | AA30: 63962 | AB30: 67222 | AC30: 69592 | AD30: 73577 | AE30: 78376 | AF30: 86298 | AG30: 86026 | AH30: 88508 | AI30: 93706 | AJ30: 96233 | AK30: 91644 | AL30: 99981 | AM30: 100102 | AN30: 100746 | AO30: 107080 | AP30: 101381 | AQ30: 99434 | AR30: 102998 | AS30: 101719 | AT30: 108630 | AU30: 111365 | AV30: 119227
A32: Non-current liabilities
A33: Long-term loans | B33: 16497 | C33: 16495 | D33: 17453 | E33: 15568 | F33: 15668 | G33: 15805 | H33: 16205 | I33: 16901 | J33: 16232 | K33: 17450 | L33: 16728 | M33: 16859 | N33: 18425 | O33: 20194 | P33: 19067 | Q33: 19489 | R33: 20349 | S33: 20269 | T33: 21179 | U33: 21100 | V33: 24813 | W33: 24384 | X33: 25353 | Y33: 22381 | Z33: 22499 | AA33: 20900 | AB33: 19887 | AC33: 20195 | AD33: 19723 | AE33: 20784 | AF33: 21629 | AG33: 20523 | AH33: 20078 | AI33: 58367 | AJ33: 50916 | AK33: 49917 | AL33: 51970 | AM33: 51414 | AN33: 54077 | AO33: 54989 | AP33: 53585 | AQ33: 54688 | AR33: 48563 | AS33: 46553 | AT33: 44014 | AU33: 47620 | AV33: 48560
A34: Non-current lease liabilities | R34: 2831 | S34: 2746 | T34: 2732 | U34: 2588 | V34: 2749 | W34: 2513 | X34: 2722 | Y34: 2477 | Z34: 2544 | AA34: 2197 | AB34: 2320 | AC34: 2433 | AD34: 2365 | AE34: 2535 | AF34: 2631 | AG34: 2624 | AH34: 2918 | AI34: 4178 | AJ34: 4183 | AK34: 4001 | AL34: 4463 | AM34: 4261 | AN34: 4103 | AO34: 4817 | AP34: 4668 | AQ34: 4474 | AR34: 4845 | AS34: 4900 | AT34: 5033 | AU34: 5174 | AV34: 5230
A35: Deferred tax liabilities | B35: 1578 | C35: 1751 | D35: 1768 | E35: 2031 | F35: 2036 | G35: 2050 | H35: 2163 | I35: 2344 | J35: 2261 | K35: 2226 | L35: 2179 | M35: 2218 | N35: 2843 | O35: 2465 | P35: 2267 | Q35: 1764 | R35: 1861 | S35: 2115 | T35: 2199 | U35: 2368 | V35: 2557 | W35: 2434 | X35: 2584 | Y35: 2868 | Z35: 2936 | AA35: 2430 | AB35: 2457 | AC35: 2581 | AD35: 2616 | AE35: 2919 | AF35: 3094 | AG35: 2785 | AH35: 2697 | AI35: 3076 | AJ35: 3230 | AK35: 2991 | AL35: 3279 | AM35: 3272 | AN35: 3606 | AO35: 3322 | AP35: 3337 | AQ35: 3826 | AR35: 4191 | AS35: 4022 | AT35: 4397 | AU35: 4580 | AV35: 4955
A36: Other non-current liabilities and provisions | B36: 8775 | C36: 7881 | D36: 7738 | E36: 6567 | F36: 6001 | G36: 6239 | H36: 6297 | I36: 6701 | J36: 6357 | K36: 5919 | L36: 4467 | M36: 5217 | N36: 5164 | O36: 5688 | P36: 5519 | Q36: 5030 | R36: 5041 | S36: 5365 | T36: 5603 | U36: 5071 | V36: 5182 | W36: 5300 | X36: 5418 | Y36: 4958 | Z36: 4342 | AA36: 4224 | AB36: 4161 | AC36: 3899 | AD36: 3860 | AE36: 4062 | AF36: 3881 | AG36: 3005 | AH36: 3405 | AI36: 3391 | AJ36: 3351 | AK36: 3222 | AL36: 3000 | AM36: 2786 | AN36: 2691 | AO36: 2927 | AP36: 3408 | AQ36: 3421 | AR36: 3669 | AS36: 3257 | AT36: 2935 | AU36: 2951 | AV36: 2804
A37: Total non-current liabilities | B37: 26849 | C37: 26127 | D37: 26959 | E37: 24166 | F37: 23705 | G37: 24094 | H37: 24664 | I37: 25945 | J37: 24850 | K37: 25596 | L37: 23374 | M37: 24293 | N37: 26433 | O37: 28348 | P37: 26852 | Q37: 26283 | R37: 30081 | S37: 30496 | T37: 31713 | U37: 31127 | V37: 35301 | W37: 34632 | X37: 36078 | Y37: 32683 | Z37: 32321 | AA37: 29750 | AB37: 28825 | AC37: 29108 | AD37: 28563 | AE37: 30299 | AF37: 31235 | AG37: 28936 | AH37: 29099 | AI37: 69012 | AJ37: 61680 | AK37: 60131 | AL37: 62712 | AM37: 61734 | AN37: 64477 | AO37: 66056 | AP37: 64998 | AQ37: 66409 | AR37: 61267 | AS37: 58732 | AT37: 56380 | AU37: 60326 | AV37: 61549
A39: Current liabilities
A40: Short-term loans | B40: 5752 | C40: 7861 | D40: 5484 | E40: 4574 | F40: 6760 | G40: 8736 | H40: 6654 | I40: 3929 | J40: 4780 | K40: 5388 | L40: 6200 | M40: 6151 | N40: 6559 | O40: 8804 | P40: 10164 | Q40: 7594 | R40: 8409 | S40: 10958 | T40: 8764 | U40: 5460 | V40: 6245 | W40: 6469 | X40: 7026 | Y40: 3514 | Z40: 3703 | AA40: 4876 | AB40: 5605 | AC40: 5042 | AD40: 5651 | AE40: 7046 | AF40: 5715 | AG40: 9304 | AH40: 6422 | AI40: 11598 | AJ40: 12607 | AK40: 9833 | AL40: 11455 | AM40: 13333 | AN40: 10515 | AO40: 11958 | AP40: 15418 | AQ40: 12181 | AR40: 14426 | AS40: 12185 | AT40: 15592 | AU40: 16715 | AV40: 10330
A41: Current lease liabilities | R41: 945 | S41: 948 | T41: 1014 | V41: 1176 | W41: 1101 | X41: 1096 | Y41: 1085 | Z41: 1134 | AA41: 1333 | AB41: 1081 | AC41: 1082 | AD41: 1170 | AE41: 1163 | AF41: 1209 | AG41: 1284 | AH41: 1264 | AI41: 1429 | AJ41: 1459 | AK41: 1443 | AL41: 1557 | AM41: 1740 | AN41: 1787 | AO41: 1737 | AP41: 1636 | AQ41: 1807 | AR41: 1700 | AS41: 1715 | AT41: 1826 | AU41: 1879 | AV41: 1943
A42: Trade payables | B42: 5517 | C42: 5613 | D42: 5749 | E42: 6553 | F42: 5828 | G42: 6336 | H42: 6560 | I42: 7443 | J42: 6695 | K42: 6832 | L42: 6374 | M42: 7811 | N42: 7106 | O42: 7830 | P42: 7704 | Q42: 7893 | R42: 7375 | S42: 7586 | T42: 7866 | U42: 7908 | V42: 7451 | W42: 6581 | X42: 7017 | Y42: 7027 | Z42: 7565 | AA42: 8035 | AB42: 8547 | AC42: 9527 | AD42: 9688 | AE42: 10523 | AF42: 10582 | AG42: 10469 | AH42: 9827 | AI42: 11849 | AJ42: 11592 | AK42: 11320 | AL42: 11767 | AM42: 11990 | AN42: 11373 | AO42: 12594 | AP42: 11590 | AQ42: 11175 | AR42: 10972 | AS42: 11030 | AT42: 11556 | AU42: 12057 | AV42: 12569
A43: Other current liabilities and provisions | B43: 9225 | C43: 8446 | D43: 9370 | E43: 9305 | F43: 8847 | G43: 9516 | H43: 10169 | I43: 10741 | J43: 10783 | K43: 10790 | L43: 10886 | M43: 10531 | N43: 10850 | O43: 11010 | P43: 11836 | Q43: 12898 | R43: 13264 | S43: 13296 | T43: 14995 | U43: 13250 | V43: 14056 | W43: 13537 | X43: 15009 | Y43: 14238 | Z43: 15051 | AA43: 14886 | AB43: 15985 | AC43: 15625 | AD43: 16641 | AE43: 17593 | AF43: 19721 | AG43: 18545 | AH43: 19827 | AI43: 23031 | AJ43: 23269 | AK43: 21980 | AL43: 22608 | AM43: 22227 | AN43: 23132 | AO43: 24180 | AP43: 24322 | AQ43: 23377 | AR43: 24972 | AS43: 22990 | AT43: 24580 | AU43: 25768 | AV43: 29156
A44: Liabilities of disposal group classified as held for sale | F44: 107 | G44: 109
A45: Total current liabilities | B45: 20494 | C45: 21920 | D45: 20603 | E45: 20432 | F45: 21542 | G45: 24697 | H45: 23383 | I45: 22112 | J45: 22259 | K45: 23009 | L45: 23460 | M45: 24494 | N45: 24515 | O45: 27644 | P45: 29703 | Q45: 28385 | R45: 29993 | S45: 32788 | T45: 32639 | U45: 27769 | V45: 28929 | W45: 27688 | X45: 30148 | Y45: 25865 | Z45: 27453 | AA45: 29131 | AB45: 31217 | AC45: 31276 | AD45: 33149 | AE45: 36323 | AF45: 37226 | AG45: 39602 | AH45: 37341 | AI45: 47907 | AJ45: 48927 | AK45: 44576 | AL45: 47387 | AM45: 49290 | AN45: 46806 | AO45: 50469 | AP45: 52965 | AQ45: 48541 | AR45: 51790 | AS45: 47920 | AT45: 53553 | AU45: 56420 | AV45: 53998
A46: Total equity and liabilities | B46: 86859 | C46: 86157 | D46: 87502 | E46: 86177 | F46: 87801 | G46: 91243 | H46: 93032 | I46: 95282 | J46: 96103 | K46: 94984 | L46: 94131 | M46: 99444 | N46: 104867 | O46: 104271 | P46: 106596 | Q46: 106568 | R46: 115201 | S46: 116998 | T46: 122306 | U46: 118050 | V46: 127287 | W46: 121311 | X46: 128399 | Y46: 117428 | Z46: 123433 | AA46: 122843 | AB46: 127264 | AC46: 129975 | AD46: 135290 | AE46: 144999 | AF46: 154759 | AG46: 154564 | AH46: 154948 | AI46: 210625 | AJ46: 206839 | AK46: 196351 | AL46: 210080 | AM46: 211125 | AN46: 212029 | AO46: 223605 | AP46: 219344 | AQ46: 214384 | AR46: 216056 | AS46: 208371 | AT46: 218563 | AU46: 228110 | AV46: 234774

Sheet Q Bridge
A4: Quarterly sales and EBIT bridge (M SEK, %)
B6: 2017 | F6: 2018 | J6: 2019 | N6: 2020 | R6: 2021 | V6: 2022 | Z6: 2023 | AD6: 2024 | AH6: 2025 | AL6: 2026
A7: GROUP | B7: Q1 | C7: Q2 | D7: Q3 | E7: Q4 | F7: Q1 | G7: Q2 | H7: Q3 | I7: Q4 | J7: Q1 | K7: Q2 | L7: Q3 | M7: Q4 | N7: Q1 | O7: Q2 | P7: Q3 | Q7: Q4 | R7: Q1 | S7: Q2 | T7: Q3 | U7: Q4 | V7: Q1 | W7: Q2 | X7: Q3 | Y7: Q4 | Z7: Q1 | AA7: Q2 | AB7: Q3 | AC7: Q4 | AD7: Q1 | AE7: Q2 | AF7: Q3 | AG7: Q4 | AH7: Q1 | AI7: Q2 | AJ7: Q3 | AK7: Q4 | AL7: Q1 | AM7: Q2 | AN7: Q3 | AO7: Q4
A8: Organic sales, % | B8: 6 | C8: 2 | D8: 3 | E8: 5 | F8: 4 | G8: 5 | H8: 5 | I8: 6 | J8: 5 | K8: 3 | L8: 4 | M8: 1 | N8: -3 | O8: -18 | P8: -5 | Q8: -5 | R8: 4 | S8: 23 | T8: 7 | U8: 10 | V8: 14 | W8: 13 | X8: 14 | Y8: 9 | Z8: 8 | AA8: 3 | AB8: 1 | AC8: 0 | AD8: -2 | AE8: -1 | AF8: 0 | AG8: 0 | AH8: 2 | AI8: 3 | AJ8: 3 | AK8: 4 | AL8: 2 | AM8: 4 | AN8: 4
A9: FX sales, % | B9: 5 | C9: 4 | D9: -2 | E9: -5 | F9: -4 | G9: 2 | H9: 8 | I9: 6 | J9: 8 | K9: 4 | L9: 5 | M9: 4 | N9: 3 | O9: 0 | P9: -7 | Q9: -7 | R9: -10 | S9: -9 | T9: -1 | U9: 1 | V9: 8 | W9: 12 | X9: 16 | Y9: 14 | Z9: 9 | AA9: 8 | AB9: 4 | AC9: 1 | AD9: 0 | AE9: 0 | AF9: -3 | AG9: 1 | AH9: 1 | AI9: -8 | AJ9: -6 | AK9: -10 | AL9: -10 | AM9: -3 | AN9: 1
A10: Acq/ Div, % | B10: 3 | C10: 2 | D10: 2 | E10: 3 | F10: 2 | G10: 2 | H10: 2 | I10: 3 | J10: 3 | K10: 4 | L10: 4 | M10: 3 | N10: 3 | O10: 3 | P10: 4 | Q10: 5 | R10: 4 | S10: 5 | T10: 2 | U10: -1 | V10: 0 | W10: 0 | X10: 3 | Y10: 5 | Z10: 5 | AA10: 6 | AB10: 11 | AC10: 11 | AD10: 11 | AE10: 11 | AF10: 4 | AG10: 6 | AH10: 5 | AI10: 5 | AJ10: 5 | AK10: 3 | AL10: 2 | AM10: 2 | AN10: 2
A12: Organic sales | B12: 1022 | C12: 344 | D12: 590 | E12: 878 | F12: 705 | G12: 954 | H12: 960 | I12: 1281 | J12: 1006 | K12: 692 | L12: 807 | M12: 147 | N12: -759 | O12: -4198 | P12: -1042 | Q12: -1150 | R12: 827 | S12: 4258 | T12: 1576 | U12: 2239 | V12: 3287 | W12: 3324 | X12: 3740.8981 | Y12: 2656.0183 | Z12: 2218 | AA12: 896.76982 | AB12: 143.94627 | AC12: 133.45279 | AD12: -762.06126 | AE12: -349 | AF12: 91 | AG12: -112 | AH12: 607 | AI12: 945 | AJ12: 1119 | AK12: 1406 | AL12: 799 | AM12: 1341 | AN12: 1428
A13: FX sales | B13: 780 | C13: 698 | D13: -488 | E13: -733 | F13: -565 | G13: 433 | H13: 1286 | I13: 1063 | J13: 126 | K13: 922 | L13: 1211 | M13: 872 | N13: 780 | O13: -48 | P13: -1581 | Q13: -1709 | R13: -2060 | S13: -1418 | T13: -361 | U13: 322 | V13: 1551 | W13: 2510 | X13: 3291.55 | Y13: 3300.1909 | Z13: 2237 | AA13: 2109 | AB13: 1183.5246 | AC13: 349.16108 | AD13: -35.198111 | AE13: -83 | AF13: -1133 | AG13: 502 | AH13: 424 | AI13: -2753 | AJ13: -2243 | AK13: -3833 | AL13: -3808 | AM13: -965 | AN13: 262
A14: Acq/ Div sales | B14: 448 | C14: 451 | D14: 373 | E14: 480 | F14: 268 | G14: 366 | H14: 446 | I14: 714 | J14: 689 | K14: 790 | L14: 825 | M14: 760 | N14: 648 | O14: 654 | P14: 816 | Q14: 1211 | R14: 866 | S14: 856 | T14: 490 | U14: -236 | V14: -52 | W14: -16 | X14: 857.42585 | Y14: 1335.7489 | Z14: 1344 | AA14: 2002 | AB14: 3733.1383 | AC14: 3571.7299 | AD14: 3606.8481 | AE14: 3925 | AF14: 1579 | AG14: 2215 | AH14: 1709 | AI14: 1855 | AJ14: 1853 | AK14: 1159 | AL14: 820 | AM14: 868 | AN14: 935
A16: Organic EBIT | B16: 213 | C16: 48 | D16: 111 | E16: 199 | F16: 148 | G16: 95 | H16: 111 | I16: 138 | J16: 162 | K16: 151 | L16: 197 | M16: 163 | N16: -580 | O16: -1599 | P16: -271 | Q16: -166 | R16: 657 | S16: 3589 | T16: 341 | U16: 513 | V16: 646 | W16: 514 | X16: 867.78583 | Y16: 593.30317 | Z16: 739 | AA16: 677 | AB16: 482.99772 | AC16: 450.1783 | AD16: -174.70621 | AE16: 37 | AF16: 348 | AG16: 448 | AH16: 361 | AI16: 500 | AJ16: 455 | AK16: 543 | AL16: 418 | AM16: 683 | AN16: 672
A17: FX EBIT | B17: 133 | C17: 104 | D17: -70 | E17: -130 | F17: -89 | G17: 37 | H17: 165 | I17: 190 | J17: 183 | K17: 165 | L17: 192 | M17: 137 | N17: 76 | O17: 3 | P17: -264 | Q17: -321 | R17: -261 | S17: -213 | T17: -120 | U17: 9 | V17: 212 | W17: 401 | X17: 537.62155 | Y17: 580.98698 | Z17: 387 | AA17: 355 | AB17: 243.02288 | AC17: 29.394475 | AD17: 53.969159 | AE17: 38 | AF17: -194 | AG17: 28 | AH17: 103 | AI17: -516 | AJ17: -476 | AK17: -760 | AL17: -691 | AM17: -252 | AN17: 2
A18: Acq/ Div EBIT | B18: 31 | C18: 53 | D18: 20 | E18: 77 | F18: -17 | G18: 64 | H18: 68 | I18: 59 | J18: 71 | K18: 106 | L18: 82 | M18: 2 | N18: 10 | O18: -40 | P18: 233 | Q18: -86 | R18: 40 | S18: 19 | T18: -421 | U18: 15 | V18: -43 | W18: -98 | X18: 175.13386 | Y18: -34.807978 | Z18: 58 | AA18: 63 | AB18: 77.815348 | AC18: 90.435409 | AD18: 361.78798 | AE18: 511 | AF18: 325 | AG18: 331 | AH18: -246 | AI18: 85 | AJ18: 182 | AK18: 135 | AL18: 88 | AM18: 95 | AN18: 11
A19: EMEIA | B19: Q1 | C19: Q2 | D19: Q3 | E19: Q4 | F19: Q1 | G19: Q2 | H19: Q3 | I19: Q4 | J19: Q1 | K19: Q2 | L19: Q3 | M19: Q4 | N19: Q1 | O19: Q2 | P19: Q3 | Q19: Q4 | R19: Q1 | S19: Q2 | T19: Q3 | U19: Q4 | V19: Q1 | W19: Q2 | X19: Q3 | Y19: Q4 | Z19: Q1 | AA19: Q2 | AB19: Q3 | AC19: Q4 | AD19: Q1 | AE19: Q2 | AF19: Q3 | AG19: Q4 | AH19: Q1 | AI19: Q2 | AJ19: Q3 | AK19: Q4 | AL19: Q1 | AM19: Q2 | AN19: Q3
A20: Organic sales, % | B20: 5 | C20: 2 | D20: 4 | E20: 5 | F20: 3 | G20: 2 | H20: 2 | I20: 3 | J20: 3 | K20: 3 | L20: 3 | M20: 1 | N20: -4 | O20: -25 | P20: -2 | Q20: -1 | R20: 5 | S20: 39 | T20: 7 | U20: 6 | V20: 7 | W20: 8 | X20: 4 | Y20: 2 | Z20: 3 | AA20: -5 | AB20: -3 | AC20: -2 | AD20: -3 | AE20: 1 | AF20: 1 | AG20: 0 | AH20: 0 | AI20: -1 | AJ20: 4 | AK20: 4 | AL20: 3 | AM20: 5 | AN20: 5
A21: FX sales, % | B21: 2 | C21: 3 | D21: -1 | E21: 0 | F21: 2 | G21: 5 | H21: 7 | I21: 5 | J21: 3 | K21: 1 | L21: 3 | M21: 2 | N21: 2 | O21: -1 | P21: -4 | Q21: -4 | R21: -6 | S21: -4 | T21: -1 | U21: -1 | V21: 3 | W21: 3 | X21: 5 | Y21: 7 | Z21: 5 | AA21: 7 | AB21: 5 | AC21: 2 | AD21: 1 | AE21: 0 | AF21: -3 | AG21: 1 | AH21: 1 | AI21: -4 | AJ21: -4 | AK21: -6 | AL21: -5 | AM21: -1 | AN21: 0
A22: Acq/ Div, % | B22: 3 | C22: 2 | D22: 3 | E22: 2 | F22: 3 | G22: 5 | H22: 5 | I22: 5 | J22: 3 | K22: 0 | L22: -1 | M22: -2 | N22: -1 | O22: -1 | P22: 0 | Q22: 0 | R22: 1 | S22: 0 | T22: -1 | U22: -6 | V22: -5 | W22: -5 | X22: 5 | Y22: 11 | Z22: 9 | AA22: 10 | AB22: 3 | AC22: 2 | AD22: 2 | AE22: 2 | AF22: 1 | AG22: 1 | AH22: 3 | AI22: 5 | AJ22: 5 | AK22: 5 | AL22: 3 | AM22: 1 | AN22: 1
A24: Organic sales | B24: 195 | C24: 77 | D24: 156 | E24: 237 | F24: 133 | G24: 102 | H24: 71 | I24: 159 | J24: 138 | K24: 140 | L24: 169 | M24: 32 | N24: -217 | O24: -1293 | P24: -78 | Q24: -35 | R24: 243 | S24: 1462 | T24: 330 | U24: 270 | V24: 325 | W24: 386 | X24: 180.90082 | Y24: 110.31747 | Z24: 162 | AA24: -270 | AB24: -192.628 | AC24: -153.4433 | AD24: -203.33422 | AE24: 87 | AF24: 32 | AG24: 12 | AH24: 27 | AI24: -61 | AJ24: 258 | AK24: 264 | AL24: 200 | AM24: 340 | AN24: 298
A25: FX sales | B25: 85 | C25: 115 | D25: -42 | E25: -20 | F25: 96 | G25: 202 | H25: 287 | I25: 181 | J25: 154 | K25: 92 | L25: 132 | M25: 148 | N25: 127 | O25: -58 | P25: -206 | Q25: -244 | R25: -277 | S25: -105 | T25: -55 | U25: 14 | V25: 198 | W25: 222 | X25: 271.74791 | Y25: 341.9603 | Z25: 249 | AA25: 335 | AB25: 328.5802 | AC25: 158.33484 | AD25: 45.396865 | AE25: -14 | AF25: -144 | AG25: 82 | AH25: 39 | AI25: -254 | AJ25: -213 | AK25: -378 | AL25: -332 | AM25: -86 | AN25: 15
A26: Acq/ Div sales | B26: 120 | C26: 103 | D26: 122 | E26: 95 | F26: 142 | G26: 235 | H26: 236 | I26: 276 | J26: 141 | K26: -9 | L26: -52 | M26: -141 | N26: -75 | O26: -69 | P26: -13 | Q26: -3 | R26: 47 | S26: 6 | T26: -55 | U26: -340 | V26: -271 | W26: -282 | X26: 261.22371 | Y26: 592.23309 | Z26: 510 | AA26: 577 | AB26: 166.93845 | AC26: 103.06371 | AD26: 145.19086 | AE26: 116 | AF26: 61 | AG26: 48 | AH26: 183 | AI26: 290 | AJ26: 270 | AK26: 299 | AL26: 186 | AM26: 61 | AN26: 89
A28: Organic EBIT | B28: 44 | C28: 40 | D28: 32 | E28: 60 | F28: 38 | G28: 38 | H28: 0 | I28: 9 | J28: 49 | K28: 33 | L28: 44 | M28: -25 | N28: -215 | O28: -614 | P28: -22 | Q28: -7 | R28: 144 | S28: 563 | T28: 46 | U28: 73 | V28: 51 | W28: 74 | X28: 46.965094 | Y28: 88.90613 | Z28: 23.857506 | AA28: -108 | AB28: -75.274087 | AC28: -55.742505 | AD28: -62.303522 | AE28: 54 | AF28: 7 | AG28: 56 | AH28: 40 | AI28: -28 | AJ28: 65 | AK28: 45 | AL28: 56 | AM28: 230 | AN28: 117
A29: FX EBIT | B29: 18 | C29: 7 | D29: 0 | E29: -2 | F29: 23 | G29: 29 | H29: 14 | I29: 21 | J29: -5 | K29: -6 | L29: 2 | M29: 11 | N29: -11 | O29: -11 | P29: -32 | Q29: -43 | R29: 1 | S29: 15 | T29: -24 | U29: -8 | V29: -10 | W29: -25 | X29: -32.436825 | Y29: -1.7648191 | Z29: 2.0579153 | AA29: 23 | AB29: 64.975728 | AC29: 19.797859 | AD29: 22.261974 | AE29: 10 | AF29: 5 | AG29: -17 | AH29: -8 | AI29: -6 | AJ29: -5 | AK29: -6 | AL29: 1 | AM29: -13 | AN29: -9
A30: Acq/ Div EBIT | B30: 23 | C30: 17 | D30: 11 | E30: 18 | F30: -15 | G30: 27 | H30: 43 | I30: 39 | J30: 34 | K30: 14 | L30: 2 | M30: -13 | N30: -9 | O30: -3 | P30: -4 | Q30: -163 | R30: 3 | S30: -16 | T30: -215 | U30: 71 | V30: -21 | W30: -30 | X30: 238.26575 | Y30: 39.788158 | Z30: 56.200154 | AA30: 60 | AB30: 23.627381 | AC30: 18.125759 | AD30: 32.034401 | AE30: 31 | AF30: 19 | AG30: 7 | AH30: 12 | AI30: 49 | AJ30: 22 | AK30: 16 | AL30: 15 | AM30: -2 | AN30: 3
A31: AMERICAS | B31: Q1 | C31: Q2 | D31: Q3 | E31: Q4 | F31: Q1 | G31: Q2 | H31: Q3 | I31: Q4 | J31: Q1 | K31: Q2 | L31: Q3 | M31: Q4 | N31: Q1 | O31: Q2 | P31: Q3 | Q31: Q4 | R31: Q1 | S31: Q2 | T31: Q3 | U31: Q4 | V31: Q1 | W31: Q2 | X31: Q3 | Y31: Q4 | Z31: Q1 | AA31: Q2 | AB31: Q3 | AC31: Q4 | AD31: Q1 | AE31: Q2 | AF31: Q3 | AG31: Q4 | AH31: Q1 | AI31: Q2 | AJ31: Q3 | AK31: Q4 | AL31: Q1 | AM31: Q2 | AN31: Q3
A32: Organic sales, % | B32: 7 | C32: 3 | D32: 3 | E32: 4 | F32: 3 | G32: 9 | H32: 10 | I32: 14 | J32: 10 | K32: 6 | L32: 6 | M32: 5 | N32: 1 | O32: -18 | P32: -5 | Q32: -4 | R32: 0 | S32: 26 | T32: 14 | U32: 17 | V32: 22 | W32: 20 | X32: 17 | Y32: 11 | Z32: 11 | AA32: 4 | AB32: 3 | AC32: 5 | AD32: -1 | AE32: 3 | AF32: 4 | AG32: 2 | AH32: 2 | AI32: 4 | AJ32: 3 | AK32: 5 | AL32: 4 | AM32: 4 | AN32: 6
A33: FX sales, % | B33: 8 | C33: 6 | D33: -4 | E33: -8 | F33: -9 | G33: -1 | H33: 8 | I33: 8 | J33: 11 | K33: 8 | L33: 9 | M33: 5 | N33: 5 | O33: 2 | P33: -8 | Q33: -9 | R33: -14 | S33: -14 | T33: -3 | U33: 3 | V33: 13 | W33: 20 | X33: 24 | Y33: 23 | Z33: 13 | AA33: 10 | AB33: 4 | AC33: -2 | AD33: 0 | AE33: -1 | AF33: -4 | AG33: 1 | AH33: 2 | AI33: -9 | AJ33: -8 | AK33: -14 | AL33: -14 | AM33: -3 | AN33: 1
A34: Acq/ Div, % | B34: 0 | C34: 1 | D34: 1 | E34: 1 | F34: 1 | G34: 0 | H34: 0 | I34: 0 | J34: 1 | K34: 1 | L34: 2 | M34: 4 | N34: -7 | O34: -9 | P34: -9 | Q34: -10 | R34: 1 | S34: 1 | T34: 2 | U34: 1 | V34: 1 | W34: 1 | X34: 0 | Y34: 1 | Z34: 2 | AA34: 8 | AB34: 38 | AC34: 38 | AD34: 35 | AE34: 33 | AF34: 1 | AG34: 2 | AH34: 2 | AI34: 2 | AJ34: 2 | AK34: 2 | AL34: 3 | AM34: 2 | AN34: 2
A36: Organic sales | B36: 282 | C36: 134 | D36: 124 | E36: 153 | F36: 120 | G36: 392 | H36: 446 | I36: 606 | J36: 469 | K36: 347 | L36: 324 | M36: 269 | N36: 75 | O36: -941 | P36: -230 | Q36: -208 | R36: 12 | S36: 1025 | T36: 664 | U36: 806 | V36: 1098 | W36: 1185 | X36: 1096.2041 | Y36: 736.07199 | Z36: 777.82483 | AA36: 300 | AB36: 199.09367 | AC36: 289.95941 | AD36: -74.935507 | AE36: 231 | AF36: 396 | AG36: 209 | AH36: 225 | AI36: 468 | AJ36: 277 | AK36: 465 | AL36: 409 | AM36: 479 | AN36: 680
A37: FX sales | B37: 313 | C37: 222 | D37: -171 | E37: -329 | F37: -385 | G37: -23 | H37: 318 | I37: 307 | J37: 454 | K37: 367 | L37: 442 | M37: 248 | N37: 262 | O37: 10 | P37: -578 | Q37: -612 | R37: -707 | S37: -480 | T37: -115 | U37: 106 | V37: 484 | W37: 830 | X37: 1140.2504 | Y37: 1089.384 | Z37: 737.50848 | AA37: 599 | AB37: 236.11966 | AC37: 2.9566958 | AD37: 10.782874 | AE37: -5 | AF37: -419 | AG37: 114 | AH37: 181 | AI37: -1072 | AJ37: -808 | AK37: -1364 | AL37: -1482 | AM37: -354 | AN37: 110
A38: Acq/ Div sales | B38: 2 | C38: 57 | D38: 52 | E38: 57 | F38: 54 | G38: 5 | H38: 21 | I38: 17 | J38: 35 | K38: 68 | L38: 122 | M38: 210 | N38: -377 | O38: -533 | P38: -513 | Q38: -513 | R38: 28 | S38: 40 | T38: 73 | U38: 43 | V38: 54 | W38: 40 | X38: 3.0365279 | Y38: 80.226778 | Z38: 105.31347 | AA38: 614 | AB38: 3015.3461 | AC38: 2788.1446 | AD38: 2735.3565 | AE38: 2786 | AF38: 146 | AG38: 202 | AH38: 232 | AI38: 207 | AJ38: 157 | AK38: 180 | AL38: 248 | AM38: 181 | AN38: 201
A40: Organic EBIT | B40: 74 | C40: 37 | D40: 30 | E40: 45 | F40: 22 | G40: 8 | H40: 75 | I40: 138 | J40: 98 | K40: 80 | L40: 95 | M40: 78 | N40: -6 | O40: -309 | P40: -39 | Q40: 1 | R40: 40 | S40: 328 | T40: 155 | U40: 247 | V40: 235 | W40: 335 | X40: 338.77303 | Y40: 291.24851 | Z40: 329.47526 | AA40: 249 | AB40: 213.08059 | AC40: 182.98112 | AD40: -49.332267 | AE40: 39 | AF40: 158 | AG40: 39 | AH40: 19 | AI40: 152 | AJ40: 127 | AK40: 200 | AL40: 212 | AM40: 156 | AN40: 284
A41: FX EBIT | B41: 62 | C41: 43 | D41: -33 | E41: -65 | F41: -72 | G41: -1 | H41: 73 | I41: 66 | J41: 93 | K41: 81 | L41: 90 | M41: 58 | N41: 50 | O41: -2 | P41: -121 | Q41: -129 | R41: -135 | S41: -80 | T41: -18 | U41: 14 | V41: 103 | W41: 175 | X41: 233.76378 | Y41: 224.81193 | Z41: 150.63881 | AA41: 129 | AB41: 69.016871 | AC41: 5.388298 | AD41: -0.089738787 | AE41: 2 | AF41: -89 | AG41: -22 | AH41: 64 | AI41: -182 | AJ41: -175 | AK41: -286 | AL41: -282 | AM41: -83 | AN41: 17
A42: Acq/ Div EBIT | B42: 0 | C42: 12 | D42: 10 | E42: -41 | F42: -65 | G42: -26 | H42: -68 | I42: -23 | J42: 3 | K42: 21 | L42: 17 | M42: 19 | N42: -36 | O42: -123 | P42: -122 | Q42: -139 | R42: 1 | S42: 0 | T42: 10 | U42: -60 | V42: -28 | W42: -76 | X42: -84.789578 | Y42: -48.570971 | Z42: -37.930036 | AA42: -74 | AB42: -11.863671 | AC42: 81.978275 | AD42: 252.7803 | AE42: 403 | AF42: 210 | AG42: 79 | AH42: -78 | AI42: -88 | AJ42: -98 | AK42: -19 | AL42: 9 | AM42: -4 | AN42: 10
A43: APAC | B43: Q1 | C43: Q2 | D43: Q3 | E43: Q4 | F43: Q1 | G43: Q2 | H43: Q3 | I43: Q4 | J43: Q1 | K43: Q2 | L43: Q3 | M43: Q4 | N43: Q1 | O43: Q2 | P43: Q3 | Q43: Q4 | R43: Q1 | S43: Q2 | T43: Q3 | U43: Q4 | V43: Q1 | W43: Q2 | X43: Q3 | Y43: Q4 | Z43: Q1 | AA43: Q2 | AB43: Q3 | AC43: Q4 | AD43: Q1 | AE43: Q2 | AF43: Q3 | AG43: Q4 | AH43: Q1 | AI43: Q2 | AJ43: Q3 | AK43: Q4 | AL43: Q1 | AM43: Q2 | AN43: Q3
A44: Organic sales, % | B44: 3 | C44: -6 | D44: 2 | E44: 3 | F44: 4 | G44: 2 | H44: 1 | I44: 11 | J44: 6 | K44: 3 | L44: -1 | M44: -10 | N44: -34 | O44: -17 | P44: -8 | Q44: -5 | R44: 23 | S44: 0 | T44: -7 | U44: 0 | V44: -2 | W44: -5 | X44: -2 | Y44: -10 | Z44: 6 | AA44: -2 | AB44: -7 | AC44: -1 | AD44: -3 | AE44: -5 | AF44: -6 | AG44: -11 | AH44: -5 | AI44: -1 | AJ44: -4 | AK44: -2 | AL44: 0 | AM44: -4 | AN44: -1
A45: FX sales, % | B45: 6 | C45: 3 | D45: -4 | E45: -4 | F45: -3 | G45: 4 | H45: 6 | I45: 4 | J45: 5 | K45: 3 | L45: 4 | M45: 2 | N45: 2 | O45: -1 | P45: -6 | Q45: -6 | R45: -7 | S45: -4 | T45: 1 | U45: 3 | V45: 7 | W45: 10 | X45: 15 | Y45: 9 | Z45: 6 | AA45: 3 | AB45: 0 | AC45: 0 | AD45: -3 | AE45: -2 | AF45: -2 | AG45: 1 | AH45: 0 | AI45: -9 | AJ45: -9 | AK45: -13 | AL45: -11 | AM45: -3 | AN45: 3
A46: Acq/ Div, % | B46: 0 | C46: 0 | D46: 0 | E46: 0 | F46: 1 | G46: 1 | H46: 0 | I46: 0 | J46: 2 | K46: 6 | L46: 6 | M46: 4 | N46: 4 | O46: -1 | P46: 0 | Q46: 1 | R46: -4 | S46: -1 | T46: -2 | U46: -2 | V46: 1 | W46: 1 | X46: 15 | Y46: 10 | Z46: 16 | AA46: 15 | AB46: -3 | AC46: -6 | AD46: -9 | AE46: -5 | AF46: 0 | AG46: 0 | AH46: 0 | AI46: 0 | AJ46: 0 | AK46: 0 | AL46: 0 | AM46: 2 | AN46: 2
A48: Organic sales | B48: 63 | C48: -147 | D48: 52 | E48: 65 | F48: 82 | G48: 58 | H48: 20 | I48: 263 | J48: 116 | K48: 88 | L48: -34 | M48: -279 | N48: -751 | O48: -490 | P48: -219 | Q48: -135 | R48: 332 | S48: 1 | T48: -167 | U48: 2 | V48: -48 | W48: -124 | X48: -45.646813 | Y48: -258.19016 | Z48: 120.29653 | AA48: -55 | AB48: -193.60825 | AC48: -28.965845 | AD48: -68.171893 | AE48: -138 | AF48: -146 | AG48: -276 | AH48: -106 | AI48: -24 | AJ48: -98 | AK48: -42 | AL48: 5 | AM48: -93 | AN48: -22
A49: FX sales | B49: 100 | C49: 86 | D49: -98 | E49: -101 | F49: -56 | G49: 81 | H49: 146 | I49: 92 | J49: 107 | K49: 61 | L49: 125 | M49: 85 | N49: 27 | O49: -45 | P49: -186 | Q49: -141 | R49: -84 | S49: -94 | T49: 11 | U49: 70 | V49: 141 | W49: 245 | X49: 301.58264 | Y49: 221.38537 | Z49: 103.21812 | AA49: 66 | AB49: -1.8724287 | AC49: -3.8656421 | AD49: -84.166032 | AE49: -55 | AF49: -71 | AG49: 27 | AH49: -7 | AI49: -209 | AJ49: -209 | AK49: -281 | AL49: -210 | AM49: -54 | AN49: 68
A50: Acq/ Div sales | B50: -3 | C50: -12 | D50: 9 | E50: 9 | F50: 16 | G50: 23 | H50: 13 | I50: 0 | J50: 38 | K50: 161 | L50: 156 | M50: 115 | N50: 92 | O50: -26 | P50: 10 | Q50: 18 | R50: -62 | S50: -20 | T50: -52 | U50: -59 | V50: 13 | W50: 15 | X50: 390.15354 | Y50: 253.48949 | Z50: 308.71495 | AA50: 375 | AB50: -81.819016 | AC50: -147.57018 | AD50: -210.6293 | AE50: -142 | AF50: 2 | AG50: -2 | AH50: 0 | AI50: 0 | AJ50: 0 | AK50: 0 | AL50: 0 | AM50: 33 | AN50: 49
A52: Organic EBIT | B52: -32 | C52: -98 | D52: -21 | E52: -13 | F52: 9 | G52: -40 | H52: -41 | I52: 27 | J52: -44 | K52: 24 | L52: 0 | M52: -57 | N52: -264 | O52: -81 | P52: -68 | Q52: 0 | R52: 207 | S52: 30 | T52: -46 | U52: -130 | V52: -4 | W52: -163 | X52: -61.068617 | Y52: -228.17294 | Z52: 16.818452 | AA52: 115 | AB52: 73.542399 | AC52: 256.29491 | AD52: 5.0868569 | AE52: -11 | AF52: -32 | AG52: 19 | AH52: -15 | AI52: 29 | AJ52: 48 | AK52: 52 | AL52: 23 | AM52: -8 | AN52: -2
...

Sheet Q PGR
A4: Quarterly sales by product group (MSEK)
B6: 2017 | F6: 2018 | J6: 2019 | N6: 2020 | R6: 2021 | V6: 2022 | Z6: 2023 | AD6: 2024 | AH6: 2025 | AL6: 2026
A7: Group | B7: Q1 | C7: Q2 | D7: Q3 | E7: Q4 | F7: Q1 | G7: Q2 | H7: Q3 | I7: Q4 | J7: Q1 | K7: Q2 | L7: Q3 | M7: Q4 | N7: Q1 | O7: Q2 | P7: Q3 | Q7: Q4 | R7: Q1 | S7: Q2 | T7: Q3 | U7: Q4 | V7: Q1 | W7: Q2 | X7: Q3 | Y7: Q4 | Z7: Q1 | AA7: Q2 | AB7: Q3 | AC7: Q4 | AD7: Q1 | AE7: Q2 | AF7: Q3 | AG7: Q4 | AH7: Q1 | AI7: Q2 | AJ7: Q3 | AK7: Q4 | AL7: Q1 | AM7: Q2 | AN7: Q3
A8: Mechanical locks, lock systems and fittings | B8: 5091 | C8: 5397 | D8: 5029 | E8: 5279 | F8: 5070 | G8: 5674 | H8: 5559 | I8: 5744 | J8: 5553 | K8: 5943 | L8: 6000 | M8: 5990 | N8: 5461 | O8: 4595 | P8: 5353 | Q8: 5512 | R8: 5252 | S8: 5707 | T8: 5628 | U8: 5677 | V8: 6013.5025 | W8: 6554.881 | X8: 7121.1411 | Y8: 6825.1226 | Z8: 7122 | AA8: 7792 | AB8: 8803.0264 | AC8: 8558.6829 | AD8: 8523.9715 | AE8: 9206 | AF8: 10975 | AG8: 9293 | AH8: 9276 | AI8: 9374 | AJ8: 9066 | AK8: 8052 | AL8: 8639 | AM8: 9426 | AN8: 9560
A9: Electromechanical and electronic locks | B9: 4876 | C9: 5187 | D9: 4990 | E9: 5637 | F9: 5195 | G9: 6022 | H9: 6282 | I9: 7321 | J9: 6796 | K9: 7253 | L9: 7275 | M9: 8053 | N9: 7038 | O9: 6017 | P9: 6835 | Q9: 7002 | R9: 6457 | S9: 6962 | T9: 7276 | U9: 7720 | V9: 7692.232 | W9: 8378.5531 | X9: 9345.372 | Y9: 10293.265 | Z9: 10023 | AA9: 10376 | AB9: 10755 | AC9: 11007.349 | AD9: 10291.662 | AE9: 11265 | AF9: 11364 | AG9: 11944 | AH9: 11579 | AI9: 11727 | AJ9: 12129 | AK9: 12082 | AL9: 11161 | AM9: 12113 | AN9: 12948
A10: Security doors and hardware | B10: 3187 | C10: 3523 | D10: 3348 | E10: 3243 | F10: 3052 | G10: 3628 | H10: 3616 | I10: 3638 | J10: 3375 | K10: 4085 | L10: 4348 | M10: 4040 | N10: 3617 | O10: 3444 | P10: 3593 | Q10: 3484 | R10: 3439 | S10: 3755 | T10: 3851 | U10: 3977 | V10: 4286.612 | W10: 5051.5493 | X10: 5433.0535 | Y10: 5230.6643 | Z10: 5219 | AA10: 5889 | AB10: 6798.3026 | AC10: 6381.2521 | AD10: 6132.4472 | AE10: 6608 | AF10: 4440 | AG10: 5774 | AH10: 5895 | AI10: 6071 | AJ10: 5842 | AK10: 6290 | AL10: 5643 | AM10: 6190 | AN10: 6268
